BEGIN:VCALENDAR
VERSION:2.0
PRODID:-//Canterbury UMC - ECPv6.5.1.4//NONSGML v1.0//EN
CALSCALE:GREGORIAN
METHOD:PUBLISH
X-WR-CALNAME:Canterbury UMC
X-ORIGINAL-URL:https://canterburyumc.org
X-WR-CALDESC:Events for Canterbury UMC
REFRESH-INTERVAL;VALUE=DURATION:PT1H
X-Robots-Tag:noindex
X-PUBLISHED-TTL:PT1H
BEGIN:VTIMEZONE
TZID:America/Chicago
BEGIN:DAYLIGHT
TZOFFSETFROM:-0600
TZOFFSETTO:-0500
TZNAME:CDT
DTSTART:20250309T080000
END:DAYLIGHT
BEGIN:STANDARD
TZOFFSETFROM:-0500
TZOFFSETTO:-0600
TZNAME:CST
DTSTART:20251102T070000
END:STANDARD
END:VTIMEZONE
BEGIN:VEVENT
DTSTART;TZID=America/Chicago:20251105T180000
DTEND;TZID=America/Chicago:20251105T190000
DTSTAMP:20260421T234343
CREATED:20251010T165527Z
LAST-MODIFIED:20251010T165527Z
UID:10838-1762365600-1762369200@canterburyumc.org
SUMMARY:Session 3 Fall Bible Studies
DESCRIPTION:Our 3rd fall session of Wednesday Night studies will begin on November 5 and will run through December 3. This great lineup is available for you to register now! \n• Tori Hastings – Christian Community in a World Torn Apart: Lessons from Dietrich Bonhoeffer\n• Rick Owen – Feeling the Blues: More than Music it is Community\n• Keith Thompson – The Wesley Way: John Wesley’s Approach to Spiritual Growth\n• Caroline Bundy & Rachel Estes – Faith Works: “For I was hungry and you gave me something to eat”\n• Jordain Boland & Natalie Moon – The Gifts of Imperfection\, by Brene Brown\n• Eleanor Christiansen – Woven: Teaching Your Kids Faith\n• Lisa Donnell & Team – Letters of Paul (ongoing)
URL:https://canterburyumc.org/event/session-3-fall-bible-studies/
ATTACH;FMTTYPE=image/jpeg:https://canterburyumc.org/wp-content/uploads/DSC09565-scaled-e1760115293968.jpg
END:VEVENT
BEGIN:VEVENT
DTSTART;TZID=America/Chicago:20251109T091500
DTEND;TZID=America/Chicago:20251109T103000
DTSTAMP:20260421T234343
CREATED:20251105T164935Z
LAST-MODIFIED:20251105T164935Z
UID:10972-1762679700-1762684200@canterburyumc.org
SUMMARY:1st Grade Faith Milestone
DESCRIPTION:Faith Milestones are a chance for the church to celebrate exactly who your child is right now and connect that to important parts of our faith practices here at church. We are so excited to see you and your 1st grader at our 1st grade milestone on Nov 9. We will be learning about baptism and how it teaches us who we are in God’s eyes. Please register here so that we will be prepared with materials for your family.
URL:https://canterburyumc.org/event/1st-grade-faith-milestone-2/
ATTACH;FMTTYPE=image/jpeg:https://canterburyumc.org/wp-content/uploads/FM1.jpg
END:VEVENT
BEGIN:VEVENT
DTSTART;TZID=America/Chicago:20251110T113000
DTEND;TZID=America/Chicago:20251110T123000
DTSTAMP:20260421T234343
CREATED:20251015T154627Z
LAST-MODIFIED:20251015T210236Z
UID:10851-1762774200-1762777800@canterburyumc.org
SUMMARY:Book Club
DESCRIPTION:Bring a friend to Book Club in November! It is held on the 2nd Monday of the month from\n11:30 AM-12:30 PM. Bring your lunch and join in the discussion.\nFor book titles and dates\, click here.
URL:https://canterburyumc.org/event/book-club-5/
ATTACH;FMTTYPE=image/jpeg:https://canterburyumc.org/wp-content/uploads/shutterstock_2651312607-scaled-e1760562137260.jpg
END:VEVENT
BEGIN:VEVENT
DTSTART;TZID=America/Chicago:20251111T100000
DTEND;TZID=America/Chicago:20251111T110000
DTSTAMP:20260421T234343
CREATED:20251031T150015Z
LAST-MODIFIED:20251031T153418Z
UID:10950-1762855200-1762858800@canterburyumc.org
SUMMARY:Kids Critter Day Event
DESCRIPTION:Join us on Tuesday\, November 11 at 10 AM in Canterbury Hall for a wild morning of fun! We’ll start with a short story time\, then make a cool critter-themed craft you can take home. After that\, get ready to meet some amazing animals native to Alabama… brought by none other than Aaron the Snake Professor! Invite your friends and come learn\, laugh\, and get up close (but not too close!) with some incredible critters! No charge\, all welcome!
URL:https://canterburyumc.org/event/kids-critter-day-event/
ATTACH;FMTTYPE=image/jpeg:https://canterburyumc.org/wp-content/uploads/AdobeStock_298729233-scaled-e1761924640651.jpeg
END:VEVENT
BEGIN:VEVENT
DTSTART;TZID=America/Chicago:20251116T114500
DTEND;TZID=America/Chicago:20251116T123000
DTSTAMP:20260421T234343
CREATED:20251015T211436Z
LAST-MODIFIED:20251015T211436Z
UID:10863-1763293500-1763296200@canterburyumc.org
SUMMARY:Kenya Information Meeting
DESCRIPTION:Join us in Wesley Hall on Sunday\, November 16 to hear about the Canterbury mission trip to Kenya in Summer 2026.  We will discuss the mission project\, costs\, dates and logistics.  If you are unable to attend but still interested in learning more\, please email Hill.carmichael@canterburyumc.org or Rachel.estes@canterburyumc.org for notes from the meeting.
URL:https://canterburyumc.org/event/kenya-information-meeting/
ATTACH;FMTTYPE=image/jpeg:https://canterburyumc.org/wp-content/uploads/IMG_2399-4-e1760562835817.jpg
END:VEVENT
BEGIN:VEVENT
DTSTART;TZID=America/Chicago:20251120T063000
DTEND;TZID=America/Chicago:20251120T073000
DTSTAMP:20260421T234343
CREATED:20251015T160128Z
LAST-MODIFIED:20251015T160128Z
UID:10855-1763620200-1763623800@canterburyumc.org
SUMMARY:Men's Breakfast
DESCRIPTION:Canterbury UMC Men’s Ministry is excited to welcome author Russell J. Levenson\, Jr. as the guest speaker for the November Men’s Breakfast. Join us for a delicious breakfast\, great fellowship\, and a compelling talk on Levenson’s book\, “Witness to Belief: Conversations on Faith and Meaning”.
URL:https://canterburyumc.org/event/mens-breakfast-3/
ATTACH;FMTTYPE=image/jpeg:https://canterburyumc.org/wp-content/uploads/Unknown-3-e1760562936489.jpeg
END:VEVENT
BEGIN:VEVENT
DTSTART;VALUE=DATE:20251121
DTEND;VALUE=DATE:20251124
DTSTAMP:20260421T234343
CREATED:20251015T161747Z
LAST-MODIFIED:20251116T163154Z
UID:10858-1763683200-1763942399@canterburyumc.org
SUMMARY:Youth | Journey Retreat
DESCRIPTION:Journey Retreat will be November 21-23 at Shocco Springs in Talladega\, AL. This is a retreat for all 7th-12th graders (friends are welcome!). Registration is now closed.
URL:https://canterburyumc.org/event/youth-journey-retreat/
ATTACH;FMTTYPE=image/jpeg:https://canterburyumc.org/wp-content/uploads/IMG_6296.jpg
END:VEVENT
END:VCALENDAR