BEGIN:VCALENDAR
VERSION:2.0
PRODID:-//Canterbury UMC - ECPv6.5.1.4//NONSGML v1.0//EN
CALSCALE:GREGORIAN
METHOD:PUBLISH
X-WR-CALNAME:Canterbury UMC
X-ORIGINAL-URL:https://canterburyumc.org
X-WR-CALDESC:Events for Canterbury UMC
REFRESH-INTERVAL;VALUE=DURATION:PT1H
X-Robots-Tag:noindex
X-PUBLISHED-TTL:PT1H
BEGIN:VTIMEZONE
TZID:America/Chicago
BEGIN:DAYLIGHT
TZOFFSETFROM:-0600
TZOFFSETTO:-0500
TZNAME:CDT
DTSTART:20250309T080000
END:DAYLIGHT
BEGIN:STANDARD
TZOFFSETFROM:-0500
TZOFFSETTO:-0600
TZNAME:CST
DTSTART:20251102T070000
END:STANDARD
END:VTIMEZONE
BEGIN:VEVENT
DTSTART;TZID=America/Chicago:20250513T140000
DTEND;TZID=America/Chicago:20250513T144500
DTSTAMP:20260423T022512
CREATED:20250502T134345Z
LAST-MODIFIED:20250502T135735Z
UID:10049-1747144800-1747147500@canterburyumc.org
SUMMARY:Side By Side Concert
DESCRIPTION:The Side by Side Community Chorus presents “A Stroll Down Broadway!” on Tuesday\, May 13 from 2:00-2:45 PM in Canterbury Hall. Great for all ages! No tickets are required\, but donations will be accepted at the door to benefit McCoy Adult Day Care. Please come out and support us with your presence for this special event!
URL:https://canterburyumc.org/event/side-by-side-concert-2/
ATTACH;FMTTYPE=image/jpeg:https://canterburyumc.org/wp-content/uploads/SidebySideImage.jpg
END:VEVENT
BEGIN:VEVENT
DTSTART;TZID=America/Chicago:20250518T093000
DTEND;TZID=America/Chicago:20250518T093000
DTSTAMP:20260423T022512
CREATED:20250502T133910Z
LAST-MODIFIED:20250502T133920Z
UID:10046-1747560600-1747560600@canterburyumc.org
SUMMARY:Calm Before the Stork
DESCRIPTION:Introducing a new program at Canterbury UMC! If your family is growing through birth\, adoption or fostering\, we would love to spend a morning with you to talk about all the ways our church hopes to wrap around your family during these sacred days and years! We will discuss baptism and walk through what you need to consider when scheduling a baptism\, talk about the nursery and Sunday School program\, and share a few ideas about great books and Bibles for your little one. This also insures your family is on our church prayer list so we can be holding your family close in prayer as you prepare to meet each other. \nWe will hold our first bi-annual Calm Before the Stork on May 18 at 9:30 in room 213 in the Children’s Department. Please do us the favor of letting us know you plan to attend by RSVP’ing here.
URL:https://canterburyumc.org/event/calm-before-the-stork/
ATTACH;FMTTYPE=image/jpeg:https://canterburyumc.org/wp-content/uploads/CBtSImage.jpg
END:VEVENT
BEGIN:VEVENT
DTSTART;TZID=America/Chicago:20250518T143000
DTEND;TZID=America/Chicago:20250518T143000
DTSTAMP:20260423T022512
CREATED:20250502T135633Z
LAST-MODIFIED:20250502T135636Z
UID:10052-1747578600-1747578600@canterburyumc.org
SUMMARY:Birmingham Boys Choir Spring Concert
DESCRIPTION:The Birmingham Boys Choir presents its 47th annual spring concert on Sunday\, May 18 at 2:30 PM in the Canterbury Sanctuary. All are invited! The concert is free and is the Boys Choir’s gift to the community. To learn more\, click here.
URL:https://canterburyumc.org/event/birmingham-boys-choir-spring-concert/
ATTACH;FMTTYPE=image/jpeg:https://canterburyumc.org/wp-content/uploads/BBCImage.jpg
END:VEVENT
BEGIN:VEVENT
DTSTART;TZID=America/Chicago:20250527T120000
DTEND;TZID=America/Chicago:20250527T120000
DTSTAMP:20260423T022512
CREATED:20250502T140621Z
LAST-MODIFIED:20250502T140625Z
UID:10056-1748347200-1748347200@canterburyumc.org
SUMMARY:Legacy Luncheon
DESCRIPTION:May 27 | 12 Noon\nJoin us for a very special Legacy Luncheon with Dr. John Waits from Freedom Farm\, homes for abused\, abandoned\, neglected and at-risk kids. Learn how this amazing ministry is changing the lives of children and families giving them the “freedom to soar” and to succeed in life by giving them an anchor\, a compass\, but most of all by giving them hope and a loving home where God and faith are the center. Lunch is $5. Please RSVP by May 22 to 874-1523 or valerie.boyd@canterburyumc.org.
URL:https://canterburyumc.org/event/legacy-luncheon-2/
ATTACH;FMTTYPE=image/jpeg:https://canterburyumc.org/wp-content/uploads/FreedomFarmImage.jpg
END:VEVENT
BEGIN:VEVENT
DTSTART;TZID=America/Chicago:20250528T075000
DTEND;TZID=America/Chicago:20250528T200000
DTSTAMP:20260423T022512
CREATED:20250502T141500Z
LAST-MODIFIED:20250502T141518Z
UID:10059-1748418600-1748462400@canterburyumc.org
SUMMARY:YAC Six Flags Getaway
DESCRIPTION:Let’s getaway for our first Summer Getaway of the summer with a trip to Six Flags! We’re headed to Six Flags Over Georgia in Atlanta\, Georgia on Wednesday\, May 28th! This will be an all-day trip\, and it’s going to be an awesome time! Friends are welcome\, but spots are limited\, so sign up ASAP!\nThis trip is for students who will complete grades 7-12 in the 2024-2025 school year. \nCost: $115\nSign up here!
URL:https://canterburyumc.org/event/yac-six-flags-getaway-2/
ATTACH;FMTTYPE=image/jpeg:https://canterburyumc.org/wp-content/uploads/SixFlagsImage.jpg
END:VEVENT
END:VCALENDAR