BEGIN:VCALENDAR
VERSION:2.0
PRODID:-//Canterbury UMC - ECPv6.5.1.4//NONSGML v1.0//EN
CALSCALE:GREGORIAN
METHOD:PUBLISH
X-WR-CALNAME:Canterbury UMC
X-ORIGINAL-URL:https://canterburyumc.org
X-WR-CALDESC:Events for Canterbury UMC
REFRESH-INTERVAL;VALUE=DURATION:PT1H
X-Robots-Tag:noindex
X-PUBLISHED-TTL:PT1H
BEGIN:VTIMEZONE
TZID:America/Chicago
BEGIN:DAYLIGHT
TZOFFSETFROM:-0600
TZOFFSETTO:-0500
TZNAME:CDT
DTSTART:20240310T080000
END:DAYLIGHT
BEGIN:STANDARD
TZOFFSETFROM:-0500
TZOFFSETTO:-0600
TZNAME:CST
DTSTART:20241103T070000
END:STANDARD
END:VTIMEZONE
BEGIN:VEVENT
DTSTART;TZID=America/Chicago:20240403T180000
DTEND;TZID=America/Chicago:20240403T180000
DTSTAMP:20260421T205244
CREATED:20240207T201549Z
LAST-MODIFIED:20240207T201549Z
UID:6120-1712167200-1712167200@canterburyumc.org
SUMMARY:Narcan Training
DESCRIPTION:Narcan Training with Candace Rachel \nRoom 226
URL:https://canterburyumc.org/event/narcan-training/
ATTACH;FMTTYPE=image/jpeg:https://canterburyumc.org/wp-content/uploads/NarcanTraining.jpg
END:VEVENT
BEGIN:VEVENT
DTSTART;TZID=America/Chicago:20240408T113000
DTEND;TZID=America/Chicago:20240408T123000
DTSTAMP:20260421T205244
CREATED:20240301T145120Z
LAST-MODIFIED:20240301T145120Z
UID:6386-1712575800-1712579400@canterburyumc.org
SUMMARY:Book Club-April 8
DESCRIPTION:Canterbury Book Club\, hosted by Rachel Estes and Annie Skinner\, is open to everyone! This reading opportunity also covers the UMW Reading Program requirements. Consider joining us for this great way to read\, learn and grow together! \nBook Club is held from 11:30 AM-12:30 PM in Room M226.\nLunch is available for $12. To order\, please email Clare Mallette at clare.mallette@canterburyumc.org by no later than the Friday before each meeting.
URL:https://canterburyumc.org/event/book-club-april-8/
ATTACH;FMTTYPE=image/jpeg:https://canterburyumc.org/wp-content/uploads/BookClub-Social-Apr24-scaled.jpg
END:VEVENT
BEGIN:VEVENT
DTSTART;TZID=America/Chicago:20240410T180000
DTEND;TZID=America/Chicago:20240410T180000
DTSTAMP:20260421T205244
CREATED:20240207T201709Z
LAST-MODIFIED:20240207T201709Z
UID:6123-1712772000-1712772000@canterburyumc.org
SUMMARY:Books to Prisons
DESCRIPTION:Books to Prisons with Shannon Wadlington \nRoom 226
URL:https://canterburyumc.org/event/books-to-prisons/
ATTACH;FMTTYPE=image/jpeg:https://canterburyumc.org/wp-content/uploads/BooksToPrisonsThumbnail.jpg
END:VEVENT
BEGIN:VEVENT
DTSTART;TZID=America/Chicago:20240417T180000
DTEND;TZID=America/Chicago:20240417T180000
DTSTAMP:20260421T205244
CREATED:20240207T201817Z
LAST-MODIFIED:20240207T201817Z
UID:6126-1713376800-1713376800@canterburyumc.org
SUMMARY:CPR Training
DESCRIPTION:CPR Training with Lee Currie \nRoom 226
URL:https://canterburyumc.org/event/cpr-training/
ATTACH;FMTTYPE=image/jpeg:https://canterburyumc.org/wp-content/uploads/CPRTraining.jpg
END:VEVENT
BEGIN:VEVENT
DTSTART;TZID=America/Chicago:20240418T113000
DTEND;TZID=America/Chicago:20240418T130000
DTSTAMP:20260421T205244
CREATED:20240311T154647Z
LAST-MODIFIED:20240311T154647Z
UID:6465-1713439800-1713445200@canterburyumc.org
SUMMARY:engAGE with SAGE at Canterbury
DESCRIPTION:11:30-1pm \nLooking for the Fountain of Youth? Let us help by offering you a roadmap to successful aging. Whether we like it or not\, we all age\, so join us as we learn how to successfully navigate the seasons of our lives. \nThrough engAGE\, we will offer quarterly Lunch and Learn gatherings featuring engaging and informative topics on how to live our best lives. On Thursday\, April 18\, we will hear from our own Valerie Boyd\, Executive Director of Encore and SAGE Ministries\, as she addresses dementia prevention. \nCome with your ideas on what you would like to learn more about as we grow together in health and spirit. \n$10 \nPlease RSVP to Valerie at valerie.boyd@canterburyumc.org by Monday\, April 15
URL:https://canterburyumc.org/event/engage-with-sage-at-canterbury/
ATTACH;FMTTYPE=image/jpeg:https://canterburyumc.org/wp-content/uploads/engAGELogo.jpg
END:VEVENT
BEGIN:VEVENT
DTSTART;TZID=America/Chicago:20240424T180000
DTEND;TZID=America/Chicago:20240424T180000
DTSTAMP:20260421T205244
CREATED:20240207T201952Z
LAST-MODIFIED:20240207T201952Z
UID:6129-1713981600-1713981600@canterburyumc.org
SUMMARY:The Well House/Trafficking
DESCRIPTION:The Well House/Trafficking with Carolyn Potter \nRoom 226
URL:https://canterburyumc.org/event/the-well-house-trafficking/
ATTACH;FMTTYPE=image/jpeg:https://canterburyumc.org/wp-content/uploads/Wellhouse.jpg
END:VEVENT
BEGIN:VEVENT
DTSTART;TZID=America/Chicago:20240426T080000
DTEND;TZID=America/Chicago:20240427T170000
DTSTAMP:20260421T205244
CREATED:20240301T151303Z
LAST-MODIFIED:20240424T162428Z
UID:6408-1714118400-1714237200@canterburyumc.org
SUMMARY:Women's Retreat
DESCRIPTION:Women’s Retreat & Writing Workshop\nCanterbury will host a Spring Women’s Retreat\, ENLIVEN\, featuring guest speaker and author Kathy Izard. The 2-day event will be held here on campus\, and will be a weekend of growth and fellowship including an optional pre-event workshop on April 25. For details\, click here.
URL:https://canterburyumc.org/event/womens-retreat/
ATTACH;FMTTYPE=image/jpeg:https://canterburyumc.org/wp-content/uploads/WomensRetreat.jpg
END:VEVENT
BEGIN:VEVENT
DTSTART;TZID=America/Chicago:20240428T173000
DTEND;TZID=America/Chicago:20240428T193000
DTSTAMP:20260421T205244
CREATED:20240423T152836Z
LAST-MODIFIED:20240423T152836Z
UID:6854-1714325400-1714332600@canterburyumc.org
SUMMARY:Senior Night
DESCRIPTION:Senior Night | April 28 | 5:30-7:30 PM\nMark your calendar for Sunday\, April 28 as we celebrate our incredible Seniors! (5:30 PM\, Canterbury Hall) All 7th-11th grade YACs are encouraged to attend to support our graduating 12th graders! The event is $10/person for families that do not have a Senior. Please click here to let us know that you will be there! Families of Seniors\, if you have already RSVPd to Elizabeth\, you do not need to fill out the form.
URL:https://canterburyumc.org/event/senior-night/
ATTACH;FMTTYPE=image/jpeg:https://canterburyumc.org/wp-content/uploads/SeniorNight.jpg
END:VEVENT
END:VCALENDAR