BEGIN:VCALENDAR
VERSION:2.0
PRODID:-//Canterbury UMC - ECPv6.5.1.4//NONSGML v1.0//EN
CALSCALE:GREGORIAN
METHOD:PUBLISH
X-WR-CALNAME:Canterbury UMC
X-ORIGINAL-URL:https://canterburyumc.org
X-WR-CALDESC:Events for Canterbury UMC
REFRESH-INTERVAL;VALUE=DURATION:PT1H
X-Robots-Tag:noindex
X-PUBLISHED-TTL:PT1H
BEGIN:VTIMEZONE
TZID:America/Chicago
BEGIN:DAYLIGHT
TZOFFSETFROM:-0600
TZOFFSETTO:-0500
TZNAME:CDT
DTSTART:20240310T080000
END:DAYLIGHT
BEGIN:STANDARD
TZOFFSETFROM:-0500
TZOFFSETTO:-0600
TZNAME:CST
DTSTART:20241103T070000
END:STANDARD
END:VTIMEZONE
BEGIN:VEVENT
DTSTART;TZID=America/Chicago:20240205T113000
DTEND;TZID=America/Chicago:20240205T123000
DTSTAMP:20260421T130859
CREATED:20231211T212101Z
LAST-MODIFIED:20231211T212326Z
UID:5612-1707132600-1707136200@canterburyumc.org
SUMMARY:February Book Club
DESCRIPTION:Now is a great time to join BOOK CLUB! Two wonderful reads are lined up for February 5 and then March 4. February’s reading is The Same Sky by Amanda Eyre Ward. Book Club is held from 11:30 AM-12:30 PM in Room M200 (next to the Resource Room).
URL:https://canterburyumc.org/event/february-book-club/
ATTACH;FMTTYPE=image/jpeg:https://canterburyumc.org/wp-content/uploads/Feb-BookClub.jpg
END:VEVENT
BEGIN:VEVENT
DTSTART;VALUE=DATE:20240214
DTEND;VALUE=DATE:20240215
DTSTAMP:20260421T130859
CREATED:20240123T162433Z
LAST-MODIFIED:20240123T162848Z
UID:5876-1707868800-1707955199@canterburyumc.org
SUMMARY:Ash Wednesday
DESCRIPTION:• Drive through Ashes – 12:00-1:00 PM \nA pastor will greet you with ashes at your car at the porte-cochere drive through at the main entrance \nnear the Welcome Center. \n• Service of Ashes – 6:00 PM\, Sanctuary \nJoin us as we mark the beginning of Lent with this beautiful service that serves as a solemn reminder of \nour human mortality and our need for reconciliation with God and others.
URL:https://canterburyumc.org/event/ash-wednesday/
ATTACH;FMTTYPE=image/jpeg:https://canterburyumc.org/wp-content/uploads/ashes_square.jpg
END:VEVENT
BEGIN:VEVENT
DTSTART;TZID=America/Chicago:20240218T130000
DTEND;TZID=America/Chicago:20240218T150000
DTSTAMP:20260421T130859
CREATED:20240123T173109Z
LAST-MODIFIED:20240123T173109Z
UID:5880-1708261200-1708268400@canterburyumc.org
SUMMARY:Hiking with Hill Carmichael
DESCRIPTION:Meet after worship on the following Sundays in Lent to enjoy an afternoon in nature with other Canterbury folks. Led by Pastor Hill Carmichael at Red Mountain Park.  Sundays: February 18\, March 3 and March 17.
URL:https://canterburyumc.org/event/hiking-with-hill-carmichael/
ATTACH;FMTTYPE=image/jpeg:https://canterburyumc.org/wp-content/uploads/Hill_Hiking_square.jpg
END:VEVENT
BEGIN:VEVENT
DTSTART;TZID=America/Chicago:20240222T183000
DTEND;TZID=America/Chicago:20240222T200000
DTSTAMP:20260421T130859
CREATED:20240207T163212Z
LAST-MODIFIED:20240207T163212Z
UID:6101-1708626600-1708632000@canterburyumc.org
SUMMARY:Created by God
DESCRIPTION:This workshop brings together 5th and 6th graders\, their parents\, and adult leaders for a faith-filled\, comprehensive study of human sexuality\, anatomy\, growth and development\, reproduction\, and God’s call to intimacy and responsibility. ($60.00 per student)  \n• Thursday\, February 22 | 6:30-8:00 PM Parents & Leaders \n• Saturday\, February 24  | 9:00 AM-4:00 PM Students & Leaders \nPlease register here.
URL:https://canterburyumc.org/event/created-by-god/
ATTACH;FMTTYPE=image/jpeg:https://canterburyumc.org/wp-content/uploads/CreatedByGod.jpg
END:VEVENT
BEGIN:VEVENT
DTSTART;TZID=America/Chicago:20240222T183000
DTEND;TZID=America/Chicago:20240222T200000
DTSTAMP:20260421T130859
CREATED:20240207T163212Z
LAST-MODIFIED:20240207T163212Z
UID:6101-1708626600-1708632000@canterburyumc.org
SUMMARY:Created by God
DESCRIPTION:This workshop brings together 5th and 6th graders\, their parents\, and adult leaders for a faith-filled\, comprehensive study of human sexuality\, anatomy\, growth and development\, reproduction\, and God’s call to intimacy and responsibility. ($60.00 per student)  \n• Thursday\, February 22 | 6:30-8:00 PM Parents & Leaders \n• Saturday\, February 24  | 9:00 AM-4:00 PM Students & Leaders \nPlease register here.
URL:https://canterburyumc.org/event/created-by-god/
ATTACH;FMTTYPE=image/jpeg:https://canterburyumc.org/wp-content/uploads/CreatedByGod.jpg
END:VEVENT
BEGIN:VEVENT
DTSTART;TZID=America/Chicago:20240225T080000
DTEND;TZID=America/Chicago:20240226T170000
DTSTAMP:20260421T130859
CREATED:20231211T211757Z
LAST-MODIFIED:20231211T211757Z
UID:5609-1708848000-1708966800@canterburyumc.org
SUMMARY:Rise Against Hunger
DESCRIPTION:Rise Against Hunger is an international hunger relief non-profit organization that coordinates the packaging and distribution of food and other aid to people in developing nations. Each year\, Canterbury partners with Rise Against Hunger to pack thousands of meals. In 2023\, we reached our goal by packing 150\,000 meals. In February\, we plan to pack 200\,000 meals – bringing the total meals packed at Canterbury since beginning this program to 4 million meals! This is a wonderful opportunity to serve with your Sunday school class\, small group\, or even your neighbors and friends. Many hands and hearts are needed\, so register for a shift today! \nHelp us pack 200\,000 meals\, register for a shift at: www.canterburyumc.org/rise-against-hunger
URL:https://canterburyumc.org/event/rise-against-hunger/
ATTACH;FMTTYPE=image/jpeg:https://canterburyumc.org/wp-content/uploads/RAH.jpg
END:VEVENT
BEGIN:VEVENT
DTSTART;TZID=America/Chicago:20240227T120000
DTEND;TZID=America/Chicago:20240227T120000
DTSTAMP:20260421T130859
CREATED:20240207T193534Z
LAST-MODIFIED:20240207T193541Z
UID:6114-1709035200-1709035200@canterburyumc.org
SUMMARY:Sozo Children's Choir
DESCRIPTION:This talented group of children travel from Uganda to America touring the states while leading worship at churches and schools. Come experience Ugandan singing and dancing with African instruments and powerful worship. The choir will perform at the February Legacy Luncheon at 12 Noon in Canterbury Hall. Lunch is $5\, performance is free. To reserve a lunch\, RSVP by February 21 to Valerie at valerie.boyd@canterburyumc.org.
URL:https://canterburyumc.org/event/sozo-childrens-choir/
ATTACH;FMTTYPE=image/jpeg:https://canterburyumc.org/wp-content/uploads/sozogirls.jpg
END:VEVENT
END:VCALENDAR