BEGIN:VCALENDAR
VERSION:2.0
PRODID:-//Canterbury UMC - ECPv6.5.1.4//NONSGML v1.0//EN
CALSCALE:GREGORIAN
METHOD:PUBLISH
X-WR-CALNAME:Canterbury UMC
X-ORIGINAL-URL:https://canterburyumc.org
X-WR-CALDESC:Events for Canterbury UMC
REFRESH-INTERVAL;VALUE=DURATION:PT1H
X-Robots-Tag:noindex
X-PUBLISHED-TTL:PT1H
BEGIN:VTIMEZONE
TZID:America/Chicago
BEGIN:DAYLIGHT
TZOFFSETFROM:-0600
TZOFFSETTO:-0500
TZNAME:CDT
DTSTART:20230312T080000
END:DAYLIGHT
BEGIN:STANDARD
TZOFFSETFROM:-0500
TZOFFSETTO:-0600
TZNAME:CST
DTSTART:20231105T070000
END:STANDARD
END:VTIMEZONE
BEGIN:VEVENT
DTSTART;TZID=America/Chicago:20231101T000000
DTEND;TZID=America/Chicago:20231127T000000
DTSTAMP:20260421T085951
CREATED:20231018T180350Z
LAST-MODIFIED:20231018T180948Z
UID:4997-1698796800-1701043200@canterburyumc.org
SUMMARY:Samaritan Place Market: A Christmas Village
DESCRIPTION:Once again\, Canterbury is hosting a “pop-up” store for parents in the Avondale area to shop for new Christmas toys for their children at affordable prices. This Christmas shopping event takes place annually at Avondale Samaritan Place. Gifts need to be purchased and delivered to either  Avondale UMC or Canterbury UMC by November 27. You are encouraged to shop local or from the easy and convenient Amazon Wish List. Financial donations are also welcome. Questions? Contact Jennifer Dunn at jennifer.dunn@canterburyumc.org.
URL:https://canterburyumc.org/event/samaritan-place-market-a-christmas-village/
ATTACH;FMTTYPE=image/jpeg:https://canterburyumc.org/wp-content/uploads/ChristmasVillage-Thumbnail-scaled.jpg
END:VEVENT
BEGIN:VEVENT
DTSTART;TZID=America/Chicago:20231106T113000
DTEND;TZID=America/Chicago:20231106T123000
DTSTAMP:20260421T085951
CREATED:20231004T145953Z
LAST-MODIFIED:20231004T150004Z
UID:4750-1699270200-1699273800@canterburyumc.org
SUMMARY:Book Club
DESCRIPTION:Now is a great time to join BOOK CLUB! Two wonderful reads are lined up for November 6 and then January 8. November’s reading is Before We Were Yours by Lisa Wingate. Book Club is held from 11:30 AM-12:30 PM in Room M200 (next to the Resource Room).
URL:https://canterburyumc.org/event/4750/
ATTACH;FMTTYPE=image/jpeg:https://canterburyumc.org/wp-content/uploads/BeforeWeWereYours-Thumbnail.jpg
END:VEVENT
BEGIN:VEVENT
DTSTART;TZID=America/Chicago:20231107T100000
DTEND;TZID=America/Chicago:20231107T100000
DTSTAMP:20260421T085951
CREATED:20231004T170019Z
LAST-MODIFIED:20231004T170053Z
UID:4766-1699351200-1699351200@canterburyumc.org
SUMMARY:Dementia 101
DESCRIPTION:Every month\, Encore Community Respite at CUMC offers a free course for people wanting to learn more about dementia with Dr. Renee Harmon. On November 7\, we explore the basics of dementia and Alzheimer’s disease. What is the difference between these two terms? What are some of the most common types of dementia? What is happening in the brain of someone living with Alzheimer’s disease? How does one get a diagnosis of Alzheimer’s disease\, and why is it important to get an accurate diagnosis early? What treatments are available? What are the stages of Alzheimer’s disease? What are some basic caregiving principles? This course is designed for anyone interested in better understanding dementia and Alzheimer’s disease.
URL:https://canterburyumc.org/event/dementia-101/
ATTACH;FMTTYPE=image/jpeg:https://canterburyumc.org/wp-content/uploads/Dementia101-Social-scaled.jpg
END:VEVENT
BEGIN:VEVENT
DTSTART;TZID=America/Chicago:20231117T000000
DTEND;TZID=America/Chicago:20231119T000000
DTSTAMP:20260421T085951
CREATED:20231004T223808Z
LAST-MODIFIED:20231004T223808Z
UID:4769-1700179200-1700352000@canterburyumc.org
SUMMARY:YAC Journey Retreat
DESCRIPTION:This is a retreat for all 7th-12th grade students\, and friends are welcome! The weekend is full of sessions with awesome worship & talks\, lots of games\, small groups\, and a whole lot of fun. This is a weekend that your student will not want to miss\, so invite your friends and join us!
URL:https://canterburyumc.org/event/yac-journey-retreat/
ATTACH;FMTTYPE=image/jpeg:https://canterburyumc.org/wp-content/uploads/Journey_social.jpg
END:VEVENT
BEGIN:VEVENT
DTSTART;TZID=America/Chicago:20231119T133000
DTEND;TZID=America/Chicago:20231119T160000
DTSTAMP:20260421T085951
CREATED:20231023T135434Z
LAST-MODIFIED:20231023T135434Z
UID:5050-1700400600-1700409600@canterburyumc.org
SUMMARY:Bakesgiving
DESCRIPTION:Love to bake? Or purchase Thanksgiving cakes and pies? Or is hospitality and a welcoming spirit your gift? Please help us welcome our Avondale community to Samaritan Place for our annual Bakesgiving event! Baked goods need to be at Canterbury UMC or at ASP on Friday\, November 17 by noon\, and servers would work on Sunday\, November 19  from 1:30-4:00 PM. Please click here to sign up. Thank you!
URL:https://canterburyumc.org/event/bakesgiving/
ATTACH;FMTTYPE=image/jpeg:https://canterburyumc.org/wp-content/uploads/Bakesgiving-scaled.jpg
END:VEVENT
BEGIN:VEVENT
DTSTART;TZID=America/Chicago:20231123T080000
DTEND;TZID=America/Chicago:20231124T170000
DTSTAMP:20260421T085951
CREATED:20231004T224600Z
LAST-MODIFIED:20231004T224600Z
UID:4772-1700726400-1700845200@canterburyumc.org
SUMMARY:Thanksgiving Holiday
DESCRIPTION:Church Office Closed 11/23-11/24
URL:https://canterburyumc.org/event/thanksgiving-holiday/
ATTACH;FMTTYPE=image/jpeg:https://canterburyumc.org/wp-content/uploads/OfficeClosed-Thanksgiving-scaled.jpg
END:VEVENT
BEGIN:VEVENT
DTSTART;TZID=America/Chicago:20231128T120000
DTEND;TZID=America/Chicago:20231128T133000
DTSTAMP:20260421T085951
CREATED:20231018T180655Z
LAST-MODIFIED:20231018T190128Z
UID:5000-1701172800-1701178200@canterburyumc.org
SUMMARY:Happyish Holidays
DESCRIPTION:A luncheon for all who find themselves in a tougher season in life during the holidays. It just can’t be the most wonderful time of the year when we are also in a particular life struggle. Maybe grief\, illness\, divorce\, or other challenges have us wondering how to approach the holidays this year. Rev. Malcolm Marler will talk with us about self care\, grace for ourselves and each other\, and how we can still engage in hope and joy. \nNovember 28 | 12-1:30 PM | Wesley Hall
URL:https://canterburyumc.org/event/happyish-holidays/
ATTACH;FMTTYPE=image/jpeg:https://canterburyumc.org/wp-content/uploads/HappyishHolidays-Thumbnail-1.jpg
END:VEVENT
END:VCALENDAR