BEGIN:VCALENDAR
VERSION:2.0
PRODID:-//Canterbury UMC - ECPv6.5.1.4//NONSGML v1.0//EN
CALSCALE:GREGORIAN
METHOD:PUBLISH
X-ORIGINAL-URL:https://canterburyumc.org
X-WR-CALDESC:Events for Canterbury UMC
REFRESH-INTERVAL;VALUE=DURATION:PT1H
X-Robots-Tag:noindex
X-PUBLISHED-TTL:PT1H
BEGIN:VTIMEZONE
TZID:America/Chicago
BEGIN:DAYLIGHT
TZOFFSETFROM:-0600
TZOFFSETTO:-0500
TZNAME:CDT
DTSTART:20250309T080000
END:DAYLIGHT
BEGIN:STANDARD
TZOFFSETFROM:-0500
TZOFFSETTO:-0600
TZNAME:CST
DTSTART:20251102T070000
END:STANDARD
END:VTIMEZONE
BEGIN:VEVENT
DTSTART;TZID=America/Chicago:20250414T080000
DTEND;TZID=America/Chicago:20250418T170000
DTSTAMP:20260421T145203
CREATED:20250409T143513Z
LAST-MODIFIED:20250409T143513Z
UID:9939-1744617600-1744995600@canterburyumc.org
SUMMARY:Holy Week Services
DESCRIPTION:Noon Services & Lunch | April 14\, 15 & 16 (Chapel) — Maundy Thursday Services | April 17 (Noon & 6 PM) — Good Friday Services | April 18 (Noon & 6 PM) \nPlease visit www.canterburyumc.org/lent for the full list.
URL:https://canterburyumc.org/event/holy-week-services/
ATTACH;FMTTYPE=image/jpeg:https://canterburyumc.org/wp-content/uploads/HolyWeek_social.jpg
END:VEVENT
END:VCALENDAR