BEGIN:VCALENDAR
VERSION:2.0
PRODID:-//Canterbury UMC - ECPv6.5.1.4//NONSGML v1.0//EN
CALSCALE:GREGORIAN
METHOD:PUBLISH
X-ORIGINAL-URL:https://canterburyumc.org
X-WR-CALDESC:Events for Canterbury UMC
REFRESH-INTERVAL;VALUE=DURATION:PT1H
X-Robots-Tag:noindex
X-PUBLISHED-TTL:PT1H
BEGIN:VTIMEZONE
TZID:America/Chicago
BEGIN:DAYLIGHT
TZOFFSETFROM:-0600
TZOFFSETTO:-0500
TZNAME:CDT
DTSTART:20240310T080000
END:DAYLIGHT
BEGIN:STANDARD
TZOFFSETFROM:-0500
TZOFFSETTO:-0600
TZNAME:CST
DTSTART:20241103T070000
END:STANDARD
END:VTIMEZONE
BEGIN:VEVENT
DTSTART;TZID=America/Chicago:20241223T100000
DTEND;TZID=America/Chicago:20241223T100000
DTSTAMP:20260421T101417
CREATED:20241107T214101Z
LAST-MODIFIED:20241107T214107Z
UID:8602-1734948000-1734948000@canterburyumc.org
SUMMARY:Kids@Canterbury Gingerbread Nativities
DESCRIPTION:Mark your calendar and make sure to bring your children to participate in this sweet and fun morning activitiy! We will read the nativity story and create our own unique gingerbread nativities to take home. Fun for kids of all ages!
URL:https://canterburyumc.org/event/kidscanterbury-gingerbread-nativities/
ATTACH;FMTTYPE=image/jpeg:https://canterburyumc.org/wp-content/uploads/GingerbreadNativities.jpg
END:VEVENT
END:VCALENDAR