BEGIN:VCALENDAR
VERSION:2.0
PRODID:-//Canterbury UMC - ECPv6.5.1.4//NONSGML v1.0//EN
CALSCALE:GREGORIAN
METHOD:PUBLISH
X-ORIGINAL-URL:https://canterburyumc.org
X-WR-CALDESC:Events for Canterbury UMC
REFRESH-INTERVAL;VALUE=DURATION:PT1H
X-Robots-Tag:noindex
X-PUBLISHED-TTL:PT1H
BEGIN:VTIMEZONE
TZID:America/Chicago
BEGIN:DAYLIGHT
TZOFFSETFROM:-0600
TZOFFSETTO:-0500
TZNAME:CDT
DTSTART:20240310T080000
END:DAYLIGHT
BEGIN:STANDARD
TZOFFSETFROM:-0500
TZOFFSETTO:-0600
TZNAME:CST
DTSTART:20241103T070000
END:STANDARD
END:VTIMEZONE
BEGIN:VEVENT
DTSTART;TZID=America/Chicago:20241017T063000
DTEND;TZID=America/Chicago:20241017T193000
DTSTAMP:20260421T101455
CREATED:20241001T202048Z
LAST-MODIFIED:20241001T202209Z
UID:8300-1729146600-1729193400@canterburyumc.org
SUMMARY:Men's Breakfast
DESCRIPTION:Join us for breakfast on October 17 at 6:30 AM in Canterbury Hall! We’ll enjoy food and fellowship and discuss upcoming events specifically designed for men at Canterbury. So\, if you are interested in being a part of a Life Group\, signing up for a Men’s Retreat\, or being a part of any of the upcoming ministries\, you don’t want to miss it. $12 per person. Register now: www.canterburyumc.org/mens-breakfast
URL:https://canterburyumc.org/event/mens-breakfast/
ATTACH;FMTTYPE=image/jpeg:https://canterburyumc.org/wp-content/uploads/MensBfast_social.jpg
END:VEVENT
END:VCALENDAR