BEGIN:VCALENDAR
VERSION:2.0
PRODID:-//Canterbury UMC - ECPv6.5.1.4//NONSGML v1.0//EN
CALSCALE:GREGORIAN
METHOD:PUBLISH
X-ORIGINAL-URL:https://canterburyumc.org
X-WR-CALDESC:Events for Canterbury UMC
REFRESH-INTERVAL;VALUE=DURATION:PT1H
X-Robots-Tag:noindex
X-PUBLISHED-TTL:PT1H
BEGIN:VTIMEZONE
TZID:America/Chicago
BEGIN:DAYLIGHT
TZOFFSETFROM:-0600
TZOFFSETTO:-0500
TZNAME:CDT
DTSTART:20240310T080000
END:DAYLIGHT
BEGIN:STANDARD
TZOFFSETFROM:-0500
TZOFFSETTO:-0600
TZNAME:CST
DTSTART:20241103T070000
END:STANDARD
END:VTIMEZONE
BEGIN:VEVENT
DTSTART;TZID=America/Chicago:20240621T000000
DTEND;TZID=America/Chicago:20240625T000000
DTSTAMP:20260421T220126
CREATED:20240507T195859Z
LAST-MODIFIED:20240507T195859Z
UID:7076-1718928000-1719273600@canterburyumc.org
SUMMARY:Jr. High BigStuf Trip
DESCRIPTION:Our Junior High students will be heading to the beach this summer for an incredible trip\, and we are very excited about it! BigStuf is a camp in Panama City Beach\, Florida\, and it is awesome. Great messages. Great worship. Incredible location. We will be attending BigStuf from June 21-25\, 2024. This trip has all that you need for a student to grow in their relationships with God and with each other. Spots are limited\, so make sure you sign up ASAP! \nThe Jr. High BigStuf trip is for students who will complete grades 7th-9th in the 2023-2024 school year!
URL:https://canterburyumc.org/event/jr-high-bigstuf-trip/
ATTACH;FMTTYPE=image/jpeg:https://canterburyumc.org/wp-content/uploads/JrHighBigStuf.jpg
END:VEVENT
END:VCALENDAR