BEGIN:VCALENDAR
VERSION:2.0
PRODID:-//Canterbury UMC - ECPv6.5.1.4//NONSGML v1.0//EN
CALSCALE:GREGORIAN
METHOD:PUBLISH
X-WR-CALNAME:Canterbury UMC
X-ORIGINAL-URL:https://canterburyumc.org
X-WR-CALDESC:Events for Canterbury UMC
REFRESH-INTERVAL;VALUE=DURATION:PT1H
X-Robots-Tag:noindex
X-PUBLISHED-TTL:PT1H
BEGIN:VTIMEZONE
TZID:America/Chicago
BEGIN:DAYLIGHT
TZOFFSETFROM:-0600
TZOFFSETTO:-0500
TZNAME:CDT
DTSTART:20240310T080000
END:DAYLIGHT
BEGIN:STANDARD
TZOFFSETFROM:-0500
TZOFFSETTO:-0600
TZNAME:CST
DTSTART:20241103T070000
END:STANDARD
END:VTIMEZONE
BEGIN:VEVENT
DTSTART;TZID=America/Chicago:20240519T090000
DTEND;TZID=America/Chicago:20240519T090000
DTSTAMP:20260421T204823
CREATED:20240507T201733Z
LAST-MODIFIED:20240507T201739Z
UID:7101-1716109200-1716109200@canterburyumc.org
SUMMARY:Ruth's Retirement Reception
DESCRIPTION:On Sunday\, May 19\, we invite you to join us in celebrating Rev. Ruth Grissom and her upcoming retirement. The reception will be held during the Sunday School hour beginning at 9:15 AM in the Parlor. Let’s wish Ruth well and thank her for the love and dedication she has given to Canterbury’s Children’s Ministry.
URL:https://canterburyumc.org/event/ruths-retirement-reception/
ATTACH;FMTTYPE=image/jpeg:https://canterburyumc.org/wp-content/uploads/Ruth_retirement_social2.jpg
END:VEVENT
END:VCALENDAR