BEGIN:VCALENDAR
VERSION:2.0
PRODID:-//Canterbury UMC - ECPv6.5.1.4//NONSGML v1.0//EN
CALSCALE:GREGORIAN
METHOD:PUBLISH
X-ORIGINAL-URL:https://canterburyumc.org
X-WR-CALDESC:Events for Canterbury UMC
REFRESH-INTERVAL;VALUE=DURATION:PT1H
X-Robots-Tag:noindex
X-PUBLISHED-TTL:PT1H
BEGIN:VTIMEZONE
TZID:America/Chicago
BEGIN:DAYLIGHT
TZOFFSETFROM:-0600
TZOFFSETTO:-0500
TZNAME:CDT
DTSTART:20240310T080000
END:DAYLIGHT
BEGIN:STANDARD
TZOFFSETFROM:-0500
TZOFFSETTO:-0600
TZNAME:CST
DTSTART:20241103T070000
END:STANDARD
END:VTIMEZONE
BEGIN:VEVENT
DTSTART;TZID=America/Chicago:20240514T140000
DTEND;TZID=America/Chicago:20240514T140000
DTSTAMP:20260421T205253
CREATED:20240423T153116Z
LAST-MODIFIED:20240423T153124Z
UID:6858-1715695200-1715695200@canterburyumc.org
SUMMARY:Side by Side Concert
DESCRIPTION:Side by Side Community Chorus Spring Concert| May 14 | 2 PM\nThe Side by Side Community Chorus presents “Peace\, Love and Harmony” on May 14 at 2 PM in Canterbury Hall. From Louis Armstrong and the Beatles to Simon and Garfunkel\, we’ll bring you nostalgic tunes that you will love singing along to! Kanemaster Derrick Houston will provide pre-concert entertainment! Donations are welcomed and will benefit Avondale Samaritan Place.
URL:https://canterburyumc.org/event/side-by-side-concert/
ATTACH;FMTTYPE=image/jpeg:https://canterburyumc.org/wp-content/uploads/PLH.jpg
END:VEVENT
END:VCALENDAR