BEGIN:VCALENDAR
VERSION:2.0
PRODID:-//Canterbury UMC - ECPv6.5.1.4//NONSGML v1.0//EN
CALSCALE:GREGORIAN
METHOD:PUBLISH
X-ORIGINAL-URL:https://canterburyumc.org
X-WR-CALDESC:Events for Canterbury UMC
REFRESH-INTERVAL;VALUE=DURATION:PT1H
X-Robots-Tag:noindex
X-PUBLISHED-TTL:PT1H
BEGIN:VTIMEZONE
TZID:America/Chicago
BEGIN:DAYLIGHT
TZOFFSETFROM:-0600
TZOFFSETTO:-0500
TZNAME:CDT
DTSTART:20240310T080000
END:DAYLIGHT
BEGIN:STANDARD
TZOFFSETFROM:-0500
TZOFFSETTO:-0600
TZNAME:CST
DTSTART:20241103T070000
END:STANDARD
END:VTIMEZONE
BEGIN:VEVENT
DTSTART;VALUE=DATE:20240214
DTEND;VALUE=DATE:20240215
DTSTAMP:20260421T142535
CREATED:20240123T162433Z
LAST-MODIFIED:20240123T162848Z
UID:5876-1707868800-1707955199@canterburyumc.org
SUMMARY:Ash Wednesday
DESCRIPTION:• Drive through Ashes – 12:00-1:00 PM \nA pastor will greet you with ashes at your car at the porte-cochere drive through at the main entrance \nnear the Welcome Center. \n• Service of Ashes – 6:00 PM\, Sanctuary \nJoin us as we mark the beginning of Lent with this beautiful service that serves as a solemn reminder of \nour human mortality and our need for reconciliation with God and others.
URL:https://canterburyumc.org/event/ash-wednesday/
ATTACH;FMTTYPE=image/jpeg:https://canterburyumc.org/wp-content/uploads/ashes_square.jpg
END:VEVENT
END:VCALENDAR