BEGIN:VCALENDAR
VERSION:2.0
PRODID:-//Canterbury UMC - ECPv6.5.1.4//NONSGML v1.0//EN
CALSCALE:GREGORIAN
METHOD:PUBLISH
X-WR-CALNAME:Canterbury UMC
X-ORIGINAL-URL:https://canterburyumc.org
X-WR-CALDESC:Events for Canterbury UMC
REFRESH-INTERVAL;VALUE=DURATION:PT1H
X-Robots-Tag:noindex
X-PUBLISHED-TTL:PT1H
BEGIN:VTIMEZONE
TZID:America/Chicago
BEGIN:DAYLIGHT
TZOFFSETFROM:-0600
TZOFFSETTO:-0500
TZNAME:CDT
DTSTART:20240310T080000
END:DAYLIGHT
BEGIN:STANDARD
TZOFFSETFROM:-0500
TZOFFSETTO:-0600
TZNAME:CST
DTSTART:20241103T070000
END:STANDARD
END:VTIMEZONE
BEGIN:VEVENT
DTSTART;TZID=America/Chicago:20240129T090000
DTEND;TZID=America/Chicago:20240129T120000
DTSTAMP:20260423T061244
CREATED:20231211T210841Z
LAST-MODIFIED:20231211T210841Z
UID:5599-1706518800-1706529600@canterburyumc.org
SUMMARY:Encore Volunteer Training
DESCRIPTION:Encore Community Respite Ministry is designed to empower those with memory loss to live fully and live well\, and is open to people of all faith backgrounds in Birmingham and surrounding areas. The program is progressive\, interactive and affirming\, incorporating elements of creative and cultural arts\, civic service\, fitness\, intellectual stimulation\, and social and spiritual fulfillment. \nHeld here at Canterbury on Tuesdays\, Wednesdays and Thursdays\, the program is thriving and can always use new volunteers. If interested in volunteering\, please join us for the next training session on January 29 from 9 AM – 12 Noon in the Encore room. For more info or to sign up\, please contact Patti Williams at encorepatti@gmail.com.
URL:https://canterburyumc.org/event/encore-volunteer-training/
ATTACH;FMTTYPE=image/jpeg:https://canterburyumc.org/wp-content/uploads/EncoreTraining.jpg
END:VEVENT
END:VCALENDAR