BEGIN:VCALENDAR
VERSION:2.0
PRODID:-//Canterbury UMC - ECPv6.5.1.4//NONSGML v1.0//EN
CALSCALE:GREGORIAN
METHOD:PUBLISH
X-ORIGINAL-URL:https://canterburyumc.org
X-WR-CALDESC:Events for Canterbury UMC
REFRESH-INTERVAL;VALUE=DURATION:PT1H
X-Robots-Tag:noindex
X-PUBLISHED-TTL:PT1H
BEGIN:VTIMEZONE
TZID:America/Chicago
BEGIN:DAYLIGHT
TZOFFSETFROM:-0600
TZOFFSETTO:-0500
TZNAME:CDT
DTSTART:20240310T080000
END:DAYLIGHT
BEGIN:STANDARD
TZOFFSETFROM:-0500
TZOFFSETTO:-0600
TZNAME:CST
DTSTART:20241103T070000
END:STANDARD
END:VTIMEZONE
BEGIN:VEVENT
DTSTART;TZID=America/Chicago:20240128T140000
DTEND;TZID=America/Chicago:20240128T160000
DTSTAMP:20260421T130939
CREATED:20231116T150129Z
LAST-MODIFIED:20240116T215332Z
UID:5343-1706450400-1706457600@canterburyumc.org
SUMMARY:Guest Speaker David Thomas
DESCRIPTION:“Raising Boys” \nJoin us on January 28 from 2-4 PM in Canterbury Center for this free event. \nWhat does it look like to raise boys with emotional strength? Young men who have the skills and resources to navigate all the moments of life – from the first day of school to conflict with friends\, losing games and struggling with homework\, facing challenges\, and developing resilience.  \nThis session will equip you to help boys develop three foundational ingredients for emotional health\, known as the 3 R’s. You will walk away with questions to ask the kids in your life\, practical ideas and intentional practices for building emotional strength in your family.  \nDavid is the Executive Director of Daystar Counseling Ministries in Nashville\, Tennessee. He is a frequent guest on national television and podcasts and has been featured in publications like The Washington Post and USA Today\, and speaks across the country. For more information\, visit raisingboysandgirls.com. \nPlease let us know you are coming by registering at: www.canterburyumc.org/david-thomas \nChildcare:\nFree childcare is available for children ages 6 weeks through 4th grade from 2-4 PM. Please email Selena Pitsch  at selena.pitsch@canterburyumc.org to reserve your spot(s).
URL:https://canterburyumc.org/event/guest-speaker-david-thomas/
ATTACH;FMTTYPE=image/jpeg:https://canterburyumc.org/wp-content/uploads/DavidThomas.jpg
END:VEVENT
END:VCALENDAR