BEGIN:VCALENDAR
VERSION:2.0
PRODID:-//Canterbury UMC - ECPv6.5.1.4//NONSGML v1.0//EN
CALSCALE:GREGORIAN
METHOD:PUBLISH
X-WR-CALNAME:Canterbury UMC
X-ORIGINAL-URL:https://canterburyumc.org
X-WR-CALDESC:Events for Canterbury UMC
REFRESH-INTERVAL;VALUE=DURATION:PT1H
X-Robots-Tag:noindex
X-PUBLISHED-TTL:PT1H
BEGIN:VTIMEZONE
TZID:America/Chicago
BEGIN:DAYLIGHT
TZOFFSETFROM:-0600
TZOFFSETTO:-0500
TZNAME:CDT
DTSTART:20230312T080000
END:DAYLIGHT
BEGIN:STANDARD
TZOFFSETFROM:-0500
TZOFFSETTO:-0600
TZNAME:CST
DTSTART:20231105T070000
END:STANDARD
END:VTIMEZONE
BEGIN:VEVENT
DTSTART;TZID=America/Chicago:20231217T180000
DTEND;TZID=America/Chicago:20231217T180000
DTSTAMP:20260421T114602
CREATED:20231113T151828Z
LAST-MODIFIED:20231211T173314Z
UID:5258-1702836000-1702836000@canterburyumc.org
SUMMARY:Carols & Cocoa
DESCRIPTION:Bundle up and join the fun in the Chapel parking lot! We will enjoy some yummy hot chocolate\, fire pits\, and even better fellowship and Christmas music! Invite a friend and bring some chairs. See you there!
URL:https://canterburyumc.org/event/carols-cocoa/
ATTACH;FMTTYPE=image/jpeg:https://canterburyumc.org/wp-content/uploads/CarolsCocoaSocial-scaled.jpg
END:VEVENT
END:VCALENDAR