BEGIN:VCALENDAR
VERSION:2.0
PRODID:-//Canterbury UMC - ECPv6.5.1.4//NONSGML v1.0//EN
CALSCALE:GREGORIAN
METHOD:PUBLISH
X-WR-CALNAME:Canterbury UMC
X-ORIGINAL-URL:https://canterburyumc.org
X-WR-CALDESC:Events for Canterbury UMC
REFRESH-INTERVAL;VALUE=DURATION:PT1H
X-Robots-Tag:noindex
X-PUBLISHED-TTL:PT1H
BEGIN:VTIMEZONE
TZID:America/Chicago
BEGIN:DAYLIGHT
TZOFFSETFROM:-0600
TZOFFSETTO:-0500
TZNAME:CDT
DTSTART:20230312T080000
END:DAYLIGHT
BEGIN:STANDARD
TZOFFSETFROM:-0500
TZOFFSETTO:-0600
TZNAME:CST
DTSTART:20231105T070000
END:STANDARD
END:VTIMEZONE
BEGIN:VEVENT
DTSTART;TZID=America/Chicago:20231213T170000
DTEND;TZID=America/Chicago:20231213T190000
DTSTAMP:20260421T114649
CREATED:20231113T151523Z
LAST-MODIFIED:20231113T164303Z
UID:5254-1702486800-1702494000@canterburyumc.org
SUMMARY:Festival of Trees
DESCRIPTION:Festival of Trees will be held on Wednesday\, December 13 from 5-7 PM. We will be celebrating and highlighting the many wonderful groups who are connected to Canterbury including age level ministries\, Sunday School classes\, non-profits\, etc. The evening will also include a beautiful live nativity – complete with animals and Baby Jesus – as well as a craft room for the kids to decorate their own miniature tree to take home. Bring your friends and family\, they are welcome to enjoy the evening! For more info\, email Ruth Grissom at ruth.grissom@canterburyumc.org.
URL:https://canterburyumc.org/event/festival-of-trees/
ATTACH;FMTTYPE=image/jpeg:https://canterburyumc.org/wp-content/uploads/FestivalOfTrees.jpg
END:VEVENT
END:VCALENDAR