BEGIN:VCALENDAR
VERSION:2.0
PRODID:-//Canterbury UMC - ECPv6.5.1.4//NONSGML v1.0//EN
CALSCALE:GREGORIAN
METHOD:PUBLISH
X-ORIGINAL-URL:https://canterburyumc.org
X-WR-CALDESC:Events for Canterbury UMC
REFRESH-INTERVAL;VALUE=DURATION:PT1H
X-Robots-Tag:noindex
X-PUBLISHED-TTL:PT1H
BEGIN:VTIMEZONE
TZID:America/Chicago
BEGIN:DAYLIGHT
TZOFFSETFROM:-0600
TZOFFSETTO:-0500
TZNAME:CDT
DTSTART:20230312T080000
END:DAYLIGHT
BEGIN:STANDARD
TZOFFSETFROM:-0500
TZOFFSETTO:-0600
TZNAME:CST
DTSTART:20231105T070000
END:STANDARD
END:VTIMEZONE
BEGIN:VEVENT
DTSTART;TZID=America/Chicago:20231212T120000
DTEND;TZID=America/Chicago:20231212T120000
DTSTAMP:20260421T114721
CREATED:20231113T151322Z
LAST-MODIFIED:20231113T151356Z
UID:5252-1702382400-1702382400@canterburyumc.org
SUMMARY:December Legacy Luncheon
DESCRIPTION:Join the Canterbury Staff for fellowship\, lunch\, and a fun Christmas carol singalong! Lunch $5. RSVP to valerie.boyd@canterburyumc.org.
URL:https://canterburyumc.org/event/december-legacy-luncheon/
ATTACH;FMTTYPE=image/jpeg:https://canterburyumc.org/wp-content/uploads/StaffSingAlong.jpg
END:VEVENT
END:VCALENDAR