BEGIN:VCALENDAR
VERSION:2.0
PRODID:-//Canterbury UMC - ECPv6.5.1.4//NONSGML v1.0//EN
CALSCALE:GREGORIAN
METHOD:PUBLISH
X-WR-CALNAME:Canterbury UMC
X-ORIGINAL-URL:https://canterburyumc.org
X-WR-CALDESC:Events for Canterbury UMC
REFRESH-INTERVAL;VALUE=DURATION:PT1H
X-Robots-Tag:noindex
X-PUBLISHED-TTL:PT1H
BEGIN:VTIMEZONE
TZID:America/Chicago
BEGIN:DAYLIGHT
TZOFFSETFROM:-0600
TZOFFSETTO:-0500
TZNAME:CDT
DTSTART:20230312T080000
END:DAYLIGHT
BEGIN:STANDARD
TZOFFSETFROM:-0500
TZOFFSETTO:-0600
TZNAME:CST
DTSTART:20231105T070000
END:STANDARD
END:VTIMEZONE
BEGIN:VEVENT
DTSTART;TZID=America/Chicago:20231206T163000
DTEND;TZID=America/Chicago:20231206T163000
DTSTAMP:20260421T114609
CREATED:20231113T151657Z
LAST-MODIFIED:20231113T151703Z
UID:5256-1701880200-1701880200@canterburyumc.org
SUMMARY:Pictures with Santa
DESCRIPTION:It’s the most wonderful time of the year! Don’t miss Canterbury’s Annual Pictures with Santa event hosted by Kids@Canterbury. Photos will be taken on Wednesday\, December 6. Reservations are required and picture groups will start at 4:30 PM in the Covenant Classroom. Dinner will begin at 5 PM\, so plan to make an evening of it! Sign up for your spot here.
URL:https://canterburyumc.org/event/pictures-with-santa/
ATTACH;FMTTYPE=image/jpeg:https://canterburyumc.org/wp-content/uploads/PicsWithSanta.jpg
END:VEVENT
END:VCALENDAR