BEGIN:VCALENDAR
VERSION:2.0
PRODID:-//Canterbury UMC - ECPv6.5.1.4//NONSGML v1.0//EN
CALSCALE:GREGORIAN
METHOD:PUBLISH
X-ORIGINAL-URL:https://canterburyumc.org
X-WR-CALDESC:Events for Canterbury UMC
REFRESH-INTERVAL;VALUE=DURATION:PT1H
X-Robots-Tag:noindex
X-PUBLISHED-TTL:PT1H
BEGIN:VTIMEZONE
TZID:America/Chicago
BEGIN:DAYLIGHT
TZOFFSETFROM:-0600
TZOFFSETTO:-0500
TZNAME:CDT
DTSTART:20230312T080000
END:DAYLIGHT
BEGIN:STANDARD
TZOFFSETFROM:-0500
TZOFFSETTO:-0600
TZNAME:CST
DTSTART:20231105T070000
END:STANDARD
END:VTIMEZONE
BEGIN:VEVENT
DTSTART;TZID=America/Chicago:20231205T140000
DTEND;TZID=America/Chicago:20231205T140000
DTSTAMP:20260421T114721
CREATED:20231113T150836Z
LAST-MODIFIED:20231113T150845Z
UID:5248-1701784800-1701784800@canterburyumc.org
SUMMARY:Melodies of the Season
DESCRIPTION:Side by Side Community Chorus will present “Melodies of the Season” on Tuesday\, December 5 at 2 PM in Canterbury Hall. The 90-voice chorus and band will bring you the most heartwarming tunes and a few song stories\, too! Take a break from the hustle and bustle and leave with a holiday melody in your heart. No tickets are required. Donations will be accepted at the door for Encore Community Respite’s family care fund. With these funds\, we are able to provide support for care partners and their loved ones for needs beyond the regular Encore program and support groups.\n \nAlso! The Encore Christmas Shoppe will be open before and after the program for great holiday shopping. \nSide by Side Community Chorus is a dementia-friendly choral experience for senior adults and people living with Alzheimer’s\, Parkinson’s or any form of dementia who love music and being with good friends. 
URL:https://canterburyumc.org/event/melodies-of-the-season/
ATTACH;FMTTYPE=image/jpeg:https://canterburyumc.org/wp-content/uploads/MelodiesOfTheSeason.jpg
END:VEVENT
END:VCALENDAR