BEGIN:VCALENDAR
VERSION:2.0
PRODID:-//Canterbury UMC - ECPv6.5.1.4//NONSGML v1.0//EN
CALSCALE:GREGORIAN
METHOD:PUBLISH
X-ORIGINAL-URL:https://canterburyumc.org
X-WR-CALDESC:Events for Canterbury UMC
REFRESH-INTERVAL;VALUE=DURATION:PT1H
X-Robots-Tag:noindex
X-PUBLISHED-TTL:PT1H
BEGIN:VTIMEZONE
TZID:America/Chicago
BEGIN:DAYLIGHT
TZOFFSETFROM:-0600
TZOFFSETTO:-0500
TZNAME:CDT
DTSTART:20230312T080000
END:DAYLIGHT
BEGIN:STANDARD
TZOFFSETFROM:-0500
TZOFFSETTO:-0600
TZNAME:CST
DTSTART:20231105T070000
END:STANDARD
END:VTIMEZONE
BEGIN:VEVENT
DTSTART;TZID=America/Chicago:20231101T000000
DTEND;TZID=America/Chicago:20231127T000000
DTSTAMP:20260421T101455
CREATED:20231018T180350Z
LAST-MODIFIED:20231018T180948Z
UID:4997-1698796800-1701043200@canterburyumc.org
SUMMARY:Samaritan Place Market: A Christmas Village
DESCRIPTION:Once again\, Canterbury is hosting a “pop-up” store for parents in the Avondale area to shop for new Christmas toys for their children at affordable prices. This Christmas shopping event takes place annually at Avondale Samaritan Place. Gifts need to be purchased and delivered to either  Avondale UMC or Canterbury UMC by November 27. You are encouraged to shop local or from the easy and convenient Amazon Wish List. Financial donations are also welcome. Questions? Contact Jennifer Dunn at jennifer.dunn@canterburyumc.org.
URL:https://canterburyumc.org/event/samaritan-place-market-a-christmas-village/
ATTACH;FMTTYPE=image/jpeg:https://canterburyumc.org/wp-content/uploads/ChristmasVillage-Thumbnail-scaled.jpg
END:VEVENT
BEGIN:VEVENT
DTSTART;TZID=America/Chicago:20231117T000000
DTEND;TZID=America/Chicago:20231119T000000
DTSTAMP:20260421T101455
CREATED:20231004T223808Z
LAST-MODIFIED:20231004T223808Z
UID:4769-1700179200-1700352000@canterburyumc.org
SUMMARY:YAC Journey Retreat
DESCRIPTION:This is a retreat for all 7th-12th grade students\, and friends are welcome! The weekend is full of sessions with awesome worship & talks\, lots of games\, small groups\, and a whole lot of fun. This is a weekend that your student will not want to miss\, so invite your friends and join us!
URL:https://canterburyumc.org/event/yac-journey-retreat/
ATTACH;FMTTYPE=image/jpeg:https://canterburyumc.org/wp-content/uploads/Journey_social.jpg
END:VEVENT
END:VCALENDAR