BEGIN:VCALENDAR
VERSION:2.0
PRODID:-//Canterbury UMC - ECPv6.5.1.4//NONSGML v1.0//EN
CALSCALE:GREGORIAN
METHOD:PUBLISH
X-WR-CALNAME:Canterbury UMC
X-ORIGINAL-URL:https://canterburyumc.org
X-WR-CALDESC:Events for Canterbury UMC
REFRESH-INTERVAL;VALUE=DURATION:PT1H
X-Robots-Tag:noindex
X-PUBLISHED-TTL:PT1H
BEGIN:VTIMEZONE
TZID:America/Chicago
BEGIN:DAYLIGHT
TZOFFSETFROM:-0600
TZOFFSETTO:-0500
TZNAME:CDT
DTSTART:20230312T080000
END:DAYLIGHT
BEGIN:STANDARD
TZOFFSETFROM:-0500
TZOFFSETTO:-0600
TZNAME:CST
DTSTART:20231105T070000
END:STANDARD
END:VTIMEZONE
BEGIN:VEVENT
DTSTART;TZID=America/Chicago:20231019T120000
DTEND;TZID=America/Chicago:20231019T120000
DTSTAMP:20260421T112732
CREATED:20231018T175616Z
LAST-MODIFIED:20231018T180841Z
UID:4988-1697716800-1697716800@canterburyumc.org
SUMMARY:Lunch & Learn: History and Faith in the Middle East
DESCRIPTION:Make plans to join Rev. Tori Hastings for an ongoing\, weekly Lunch & Learn beginning tomorrow\, October 19 at 12 Noon. (Room M226) Through discussion\, we will be breaking down history and faith in the Middle East to gain a better understanding of the current situation in Israel. Bring your lunch or place a lunch order today by emailing Brittany Smith at brittany.smith@canterburyumc.org.
URL:https://canterburyumc.org/event/lunch-learn-history-and-faith-in-the-middle-east/
ATTACH;FMTTYPE=image/jpeg:https://canterburyumc.org/wp-content/uploads/LunchLearn-Israel.jpg
END:VEVENT
END:VCALENDAR